BEGIN:VCALENDAR
VERSION:2.0
PRODID:-//Angel Fire Chamber of Commerce - ECPv6.15.20//NONSGML v1.0//EN
CALSCALE:GREGORIAN
METHOD:PUBLISH
X-WR-CALNAME:Angel Fire Chamber of Commerce
X-ORIGINAL-URL:https://angelfirechamber.org
X-WR-CALDESC:Events for Angel Fire Chamber of Commerce
REFRESH-INTERVAL;VALUE=DURATION:PT1H
X-Robots-Tag:noindex
X-PUBLISHED-TTL:PT1H
BEGIN:VTIMEZONE
TZID:America/Denver
BEGIN:DAYLIGHT
TZOFFSETFROM:-0700
TZOFFSETTO:-0600
TZNAME:MDT
DTSTART:20240310T090000
END:DAYLIGHT
BEGIN:STANDARD
TZOFFSETFROM:-0600
TZOFFSETTO:-0700
TZNAME:MST
DTSTART:20241103T080000
END:STANDARD
BEGIN:DAYLIGHT
TZOFFSETFROM:-0700
TZOFFSETTO:-0600
TZNAME:MDT
DTSTART:20250309T090000
END:DAYLIGHT
BEGIN:STANDARD
TZOFFSETFROM:-0600
TZOFFSETTO:-0700
TZNAME:MST
DTSTART:20251102T080000
END:STANDARD
BEGIN:DAYLIGHT
TZOFFSETFROM:-0700
TZOFFSETTO:-0600
TZNAME:MDT
DTSTART:20260308T090000
END:DAYLIGHT
BEGIN:STANDARD
TZOFFSETFROM:-0600
TZOFFSETTO:-0700
TZNAME:MST
DTSTART:20261101T080000
END:STANDARD
END:VTIMEZONE
BEGIN:VEVENT
DTSTART;TZID=America/Denver:20251129T170000
DTEND;TZID=America/Denver:20251129T190000
DTSTAMP:20260423T014358
CREATED:20251014T203220Z
LAST-MODIFIED:20251104T174138Z
UID:3764-1764435600-1764442800@angelfirechamber.org
SUMMARY:Fire & Lights Celebration
DESCRIPTION:[vc_row][vc_column][vc_column_text css=””] \n Village of Angel Fire Bonfire\, Tree Lighting\, \n& Christmas Tree Auction \nSaturday\, November 29\, 2025 \n5:00PM–7:00 PM \nAngel Fire Visitor Center Parking Lot \n3367 Mountain View Blvd in Frontier Plaza \n\n  \nPhoto Courtesy of Visit Angel Fire & Moreno Valley Angels\n[/vc_column_text][/vc_column][/vc_row]
URL:https://angelfirechamber.org/event/fire-lights-celebration/
LOCATION:Angel Fire Visitor Center\, 3367 Mountain View Blvd.\, Angel Fire\, NM\, 87710\, United States
CATEGORIES:Bonfire,Celebration,Chamber Member,Christmas Decorations,Christmas Event,Family Event,Outdoor Venue
ATTACH;FMTTYPE=image/webp:https://angelfirechamber.org/wp-content/uploads/2025/10/Fire-and-Lights-banner-2048x1024-1.webp
END:VEVENT
BEGIN:VEVENT
DTSTART;TZID=America/Denver:20251128T160000
DTEND;TZID=America/Denver:20251128T230000
DTSTAMP:20260423T014358
CREATED:20251113T210305Z
LAST-MODIFIED:20251117T214111Z
UID:3818-1764345600-1764370800@angelfirechamber.org
SUMMARY:Friendsgiving @ the Pub n' grub
DESCRIPTION:
URL:https://angelfirechamber.org/event/friendsgiving-the-pub-n-grub/
LOCATION:The Pub n ‘grub\, 52 N. Angel Fire Rd a.k.a Bill Burgess Blvd.\, Angel Fire\, NM\, 87710\, United States
CATEGORIES:Chamber Member,Dance,Family Event,Games,Karaoke,Live Music,Thanksgiving
ATTACH;FMTTYPE=image/jpeg:https://angelfirechamber.org/wp-content/uploads/2025/11/Friendsgiving2025.jpg
END:VEVENT
BEGIN:VEVENT
DTSTART;TZID=America/Denver:20251128T100000
DTEND;TZID=America/Denver:20251128T150000
DTSTAMP:20260423T014358
CREATED:20251117T220441Z
LAST-MODIFIED:20251117T220441Z
UID:3831-1764324000-1764342000@angelfirechamber.org
SUMMARY:Black Friday Sale at the Golf Shop
DESCRIPTION:
URL:https://angelfirechamber.org/event/black-friday-sale-at-the-golf-shop-2/
LOCATION:Angel Fire Resort Golf Course\, 100 Country Club Drive\, Angel Fire\, NM\, 87710\, United States
CATEGORIES:Black Friday Sale,Chamber Member
ATTACH;FMTTYPE=image/jpeg:https://angelfirechamber.org/wp-content/uploads/2025/11/Golf-Shop-Black-Friday-Sale-2025.jpg
END:VEVENT
BEGIN:VEVENT
DTSTART;TZID=America/Denver:20251127T110000
DTEND;TZID=America/Denver:20251127T150000
DTSTAMP:20260423T014358
CREATED:20251104T181731Z
LAST-MODIFIED:20251104T181731Z
UID:3802-1764241200-1764255600@angelfirechamber.org
SUMMARY:Thanksgiving Dinner at Elements
DESCRIPTION:
URL:https://angelfirechamber.org/event/thanksgiving-dinner-at-elements/
LOCATION:Elements at Angel Fire Resort Country Club\, Elements at Angel Fire Resort Country Club\, 100 Country Club Drive\, NM\, 87710\, United States
CATEGORIES:Chamber Member,Thanksgiving
ATTACH;FMTTYPE=image/jpeg:https://angelfirechamber.org/wp-content/uploads/2025/11/ResortThanksgivingAd.jpg
END:VEVENT
BEGIN:VEVENT
DTSTART;TZID=America/Denver:20251122T160000
DTEND;TZID=America/Denver:20251122T180000
DTSTAMP:20260423T014358
CREATED:20251020T194958Z
LAST-MODIFIED:20251104T203326Z
UID:3772-1763827200-1763834400@angelfirechamber.org
SUMMARY:Community Thanksgiving Dinner
DESCRIPTION:
URL:https://angelfirechamber.org/event/community-thanksgiving-dinner/
LOCATION:Eagle Nest Senior Center\, 151 Willow Creek Dr.\, Eagle Nest\, 87718\, United States
CATEGORIES:Chamber Member,Family Event,Pot Luck Meal,Thanksgiving
ATTACH;FMTTYPE=image/png:https://angelfirechamber.org/wp-content/uploads/2025/10/Village-Church-Dinner.png
END:VEVENT
BEGIN:VEVENT
DTSTART;TZID=America/Denver:20251118T080000
DTEND;TZID=America/Denver:20251118T090000
DTSTAMP:20260423T014358
CREATED:20251020T212254Z
LAST-MODIFIED:20251020T212254Z
UID:3781-1763452800-1763456400@angelfirechamber.org
SUMMARY:Quarterly Chamber Membership Meeting
DESCRIPTION:
URL:https://angelfirechamber.org/event/quarterly-chamber-membership-meeting/
LOCATION:Angel Fire Chamber of Commerce\, 3407 Mountain View Blvd. /Hwy 434\, ANGEL FIRE\, NM\, NM\, 87710\, United States
CATEGORIES:Chamber Membership Meeting,Meeting
ATTACH;FMTTYPE=image/jpeg:https://angelfirechamber.org/wp-content/uploads/2025/10/Qterly-Membership-meeting-Flyer-11-18-25-828x1280-1.jpg
END:VEVENT
BEGIN:VEVENT
DTSTART;TZID=America/Denver:20251111T110000
DTEND;TZID=America/Denver:20251111T130000
DTSTAMP:20260423T014358
CREATED:20251014T195822Z
LAST-MODIFIED:20251014T195838Z
UID:3763-1762858800-1762866000@angelfirechamber.org
SUMMARY:Veteran's Day Ceremony
DESCRIPTION:[vc_row][vc_column][vc_column_text css=””] \n Veterans Day Ceremony\n Tuesday\, November 11\, 2025 \n11:00am-1:00pm \nVietnam Veterans Memorial \n34 Country Club Rd. \nAngel Fire\, NM \n  \n  \n[/vc_column_text][/vc_column][/vc_row]
URL:https://angelfirechamber.org/event/veterans-day-ceremony/
LOCATION:Vietnam Veterans Memorial\, 34 Country Club Road\, Angel Fire\, NM\, 87710\, United States
CATEGORIES:Chamber Member,David Westphall Veterans Foundation,Family Event,Vietnam Veterans Memorial
ATTACH;FMTTYPE=image/jpeg:https://angelfirechamber.org/wp-content/uploads/2024/03/Veterans-Day-Event-2024.jpg
END:VEVENT
BEGIN:VEVENT
DTSTART;TZID=America/Denver:20251101T100000
DTEND;TZID=America/Denver:20251101T160000
DTSTAMP:20260423T014358
CREATED:20251014T192009Z
LAST-MODIFIED:20251014T192009Z
UID:3758-1761991200-1762012800@angelfirechamber.org
SUMMARY:Spooktacular Sale & Trick or Treating @ Winter Sports
DESCRIPTION:[vc_row][vc_column][vc_column_text css=””] \nJoin us for a spooktacular two-day sale and trick-or-treating at Winter Sports this Halloween! \nEnjoy creepy-crawling deals\, festive treats for all the little ghosts and goblins in costume\, \nexpert boot fitting\, unbeatable savings\, and plenty of Halloween cheer. \nFriday\, October 31 | 3 PM – 7 PM \n Trick-or-Treat at Winter Sports! Bring the kids in costume for candy while you shop the first day of our HUGE sale. \nSaturday\, November 1 | 10 AM – 4 PM \n Spend the day boot fitting\, shopping for gear\, and snagging amazing winter sports deals! \nWinter Sports \n10 Miller Lane \nAngel Fire\, NM \ncontent courtesy of the Angel Fire Resort\n[/vc_column_text][/vc_column][/vc_row]
URL:https://angelfirechamber.org/event/spooktacular-sale-trick-or-treating-winter-sports-2/
LOCATION:Winter Sports\, 10 Miller Lane\, Angel Fire\, NM\, 87710\, United States
CATEGORIES:Family Event,Halloween,Ski & Snowboard,Trick or Treat
ATTACH;FMTTYPE=image/jpeg:https://angelfirechamber.org/wp-content/uploads/2025/10/20251006121203952_0001-1280x631-1.jpg
END:VEVENT
BEGIN:VEVENT
DTSTART;TZID=America/Denver:20251031T180000
DTEND;TZID=America/Denver:20251031T220000
DTSTAMP:20260423T014358
CREATED:20251029T203216Z
LAST-MODIFIED:20251029T203216Z
UID:3794-1761933600-1761948000@angelfirechamber.org
SUMMARY:Halloween Party @ Laguna Vista
DESCRIPTION:
URL:https://angelfirechamber.org/event/halloween-party-laguna-vista/
LOCATION:Laguna Vista Lodge\, Historic Restaurant and Saloon\, 51 East Therma\, Eagle Nest\, NM\, United States
CATEGORIES:Chamber Member,Dance,Music
ATTACH;FMTTYPE=image/jpeg:https://angelfirechamber.org/wp-content/uploads/2025/10/LagunaViataHalloween2025.jpg
END:VEVENT
BEGIN:VEVENT
DTSTART;TZID=America/Denver:20251031T180000
DTEND;TZID=America/Denver:20251031T210000
DTSTAMP:20260423T014358
CREATED:20250930T160936Z
LAST-MODIFIED:20250930T161802Z
UID:3741-1761933600-1761944400@angelfirechamber.org
SUMMARY:Haunted Carnival @ Moreno Valley Preparatory
DESCRIPTION:[vc_row][vc_column][vc_column_text css=””] \nMoreno Valley Prep Theatre Production\nPresents Haunted Carnival\nOctober 31\, 2025\nActivities start at 6:00pm \nGames \nMini Pumpkin & Mask Painting \nSpooky Baked Sale \nHalloween Movie ” Frankenweenie” \nand of course\, the Haunted House! \nMoreno Valley Preparatory \n56 Camino Grande\, Angel Fire\, NM \n[/vc_column_text][/vc_column][/vc_row]
URL:https://angelfirechamber.org/event/haunted-house-moreno-valley-preparatory/
LOCATION:Moreno Valley Preparatory\, 56 Camino Grande\, Angel Fire\, NM\, 87710\, United States
CATEGORIES:Bake Sale,Chamber Member,Family Event,Games,Halloween
ATTACH;FMTTYPE=image/png:https://angelfirechamber.org/wp-content/uploads/2025/09/Moreno-Valley-prep-Theatre-productions-Presentes.png
END:VEVENT
BEGIN:VEVENT
DTSTART;TZID=America/Denver:20251031T173000
DTEND;TZID=America/Denver:20251031T190000
DTSTAMP:20260423T014358
CREATED:20250924T165733Z
LAST-MODIFIED:20250924T165733Z
UID:3729-1761931800-1761937200@angelfirechamber.org
SUMMARY:Halloween Boo Bash
DESCRIPTION:
URL:https://angelfirechamber.org/event/halloween-boo-bash/
LOCATION:Angel Fire Community Center\, 15 CS Ranch Rd\, Angel Fire\, NM\, 87710\, United States
CATEGORIES:Family Event,Halloween,Trick or Treat
ATTACH;FMTTYPE=image/jpeg:https://angelfirechamber.org/wp-content/uploads/2025/09/Boo-Bash.jpg
END:VEVENT
BEGIN:VEVENT
DTSTART;TZID=America/Denver:20251029T120000
DTEND;TZID=America/Denver:20251029T130000
DTSTAMP:20260423T014358
CREATED:20251020T213009Z
LAST-MODIFIED:20251020T213009Z
UID:3783-1761739200-1761742800@angelfirechamber.org
SUMMARY:Rotary Club Guest Speaker MVP Director Tammy Dunn
DESCRIPTION:
URL:https://angelfirechamber.org/event/rotary-club-guest-speaker-mvp-director-tammy-dunn/
LOCATION:UMB Community Room\, 1st National Place\, Angel Fire\, NM\, 87710\, United States
CATEGORIES:Chamber Member,Luncheon,Meeting
ATTACH;FMTTYPE=image/jpeg:https://angelfirechamber.org/wp-content/uploads/2025/10/560465469_10230927441829519_6514009743804319229_n.jpg
ORGANIZER;CN="Rotary Club of Angel Fire":MAILTO:marsarash@gmail.com
END:VEVENT
BEGIN:VEVENT
DTSTART;TZID=America/Denver:20251026T090000
DTEND;TZID=America/Denver:20251026T160000
DTSTAMP:20260423T014358
CREATED:20250324T223922Z
LAST-MODIFIED:20251014T194835Z
UID:3188-1761469200-1761494400@angelfirechamber.org
SUMMARY:Last Day @ Angel Fire Bike Park
DESCRIPTION:[vc_row][vc_column][vc_column_text css=””] \nClosing Day \nOctober 26\,2025 \nLifts Run 9:00am-4:00pm \nSee you next season! \n\n\n\n\n\n\n\n[/vc_column_text][/vc_column][/vc_row]
URL:https://angelfirechamber.org/event/bike-park-opening-weekend/
LOCATION:Angel Fire Resort Bike Park\, 10 Miller Lane\, An
CATEGORIES:Bike Park,Chamber Member,Mountain Biking
ATTACH;FMTTYPE=image/jpeg:https://angelfirechamber.org/wp-content/uploads/2024/04/Bike-Park.jpg
END:VEVENT
BEGIN:VEVENT
DTSTART;TZID=America/Denver:20251026T080000
DTEND;TZID=America/Denver:20251026T170000
DTSTAMP:20260423T014358
CREATED:20251014T194552Z
LAST-MODIFIED:20251014T194552Z
UID:3761-1761465600-1761498000@angelfirechamber.org
SUMMARY:Last Day @ the Angel Fire Golf Course
DESCRIPTION:[vc_row][vc_column][vc_column_text css=””] \nClosing Day at the Golf course. \nThanks for the great season\, See you next year! \n[/vc_column_text][/vc_column][/vc_row]
URL:https://angelfirechamber.org/event/last-day-the-angel-fire-golf-course/
LOCATION:Angel Fire Resort Golf Course\, 100 Country Club Drive\, Angel Fire\, NM\, 87710\, United States
CATEGORIES:Chamber Member,Golfing
ATTACH;FMTTYPE=image/jpeg:https://angelfirechamber.org/wp-content/uploads/2025/04/Golf.jpg
END:VEVENT
BEGIN:VEVENT
DTSTART;TZID=America/Denver:20251024T180000
DTEND;TZID=America/Denver:20251024T200000
DTSTAMP:20260423T014358
CREATED:20251006T190819Z
LAST-MODIFIED:20251006T190819Z
UID:3747-1761328800-1761336000@angelfirechamber.org
SUMMARY:Fall Festival @ Eagle Nest Elementary/Middle School
DESCRIPTION:
URL:https://angelfirechamber.org/event/fall-festival-eagle-nest-elementary-middle-school/
LOCATION:Eagle Nest Elementary/Middle School\, 225 Lake Ave.\, Eagle Nest\, 87718\, United States
CATEGORIES:Bake Sale,Family Event,Festival,Halloween,Trick or Treat
ATTACH;FMTTYPE=image/jpeg:https://angelfirechamber.org/wp-content/uploads/2025/10/EN-Fall-festival.jpg
END:VEVENT
BEGIN:VEVENT
DTSTART;TZID=America/Denver:20251024T160000
DTEND;TZID=America/Denver:20251024T230000
DTSTAMP:20260423T014358
CREATED:20250924T171506Z
LAST-MODIFIED:20251014T190844Z
UID:3740-1761321600-1761346800@angelfirechamber.org
SUMMARY:Halloween Happenings @ The Pub n'grub
DESCRIPTION:[vc_row][vc_column][vc_column_text css=””] \nThe Pub n grub \n48 N Angel Fire Blvd. \nAngel Fire\, NM \n[/vc_column_text][/vc_column][/vc_row]
URL:https://angelfirechamber.org/event/madkat-karaoke-with-kat-carillo-5/
LOCATION:The Pub n ‘grub\, 52 N. Angel Fire Rd a.k.a Bill Burgess Blvd.\, Angel Fire\, NM\, 87710\, United States
CATEGORIES:Karaoke,Open Mic Night
ATTACH;FMTTYPE=image/jpeg:https://angelfirechamber.org/wp-content/uploads/2025/09/Pub-Party.jpg
END:VEVENT
BEGIN:VEVENT
DTSTART;TZID=America/Denver:20251022T170000
DTEND;TZID=America/Denver:20251022T190000
DTSTAMP:20260423T014358
CREATED:20250623T231901Z
LAST-MODIFIED:20250623T231901Z
UID:3509-1761152400-1761159600@angelfirechamber.org
SUMMARY:Live Music @ Elements with Jeremiah Glauser
DESCRIPTION:Enjoy food and drinks at Elements along with the sounds of live music from Jeremiah Glauser. \nJeremiah\, singer/guitarist\, is an Angel Fire favorite based in Taos\, NM. \nHe is a solo act with a touch of Americana and Country in his style. \nhttps://www.jeremiahglauser.com/
URL:https://angelfirechamber.org/event/live-music-elements-with-jeremiah-glauser-4/
LOCATION:Elements at Angel Fire Resort Country Club\, Elements at Angel Fire Resort Country Club\, 100 Country Club Drive\, NM\, 87710\, United States
CATEGORIES:Live Music
ATTACH;FMTTYPE=image/webp:https://angelfirechamber.org/wp-content/uploads/2024/07/Live-music-graphics-2.webp
END:VEVENT
BEGIN:VEVENT
DTSTART;TZID=America/Denver:20251022T090000
DTEND;TZID=America/Denver:20251022T130000
DTSTAMP:20260423T014358
CREATED:20250924T165302Z
LAST-MODIFIED:20250924T165353Z
UID:3727-1761123600-1761138000@angelfirechamber.org
SUMMARY:Blood Drive
DESCRIPTION:
URL:https://angelfirechamber.org/event/blood-drive-2/
LOCATION:UMB Community Room\, 1st National Place\, Angel Fire\, NM\, 87710\, United States
CATEGORIES:Blood Drive
ATTACH;FMTTYPE=image/jpeg:https://angelfirechamber.org/wp-content/uploads/2025/09/Blood-Drive1.jpg
END:VEVENT
BEGIN:VEVENT
DTSTART;TZID=America/Denver:20251021T180000
DTEND;TZID=America/Denver:20251021T184500
DTSTAMP:20260423T014358
CREATED:20251020T194709Z
LAST-MODIFIED:20251020T194709Z
UID:3770-1761069600-1761072300@angelfirechamber.org
SUMMARY:Eagle Nest Middle School Band Concert
DESCRIPTION:
URL:https://angelfirechamber.org/event/eagle-nest-middle-school-band-concert/
LOCATION:Eagle Nest Elementary/Middle School\, 225 Lake Ave.\, Eagle Nest\, 87718\, United States
CATEGORIES:Free Concert
ATTACH;FMTTYPE=image/jpeg:https://angelfirechamber.org/wp-content/uploads/2025/10/564015531_1383472333779796_1805406299630914329_n.jpg
END:VEVENT
BEGIN:VEVENT
DTSTART;TZID=America/Denver:20251016T170000
DTEND;TZID=America/Denver:20251016T190000
DTSTAMP:20260423T014358
CREATED:20250924T170242Z
LAST-MODIFIED:20250924T170242Z
UID:3733-1760634000-1760641200@angelfirechamber.org
SUMMARY:Live Music @ Elements with Ry Taylor
DESCRIPTION:Enjoy food and drinks with live music every Thursday throughout the summer from Ry Taylor! \nSinger\, songwriter Ry Taylor is a northern New Mexico local favorite! He was born and raised on Philmont boy scout ranch in Cimarron\, NM.  He has been playing music for family and friends since he was 10 years old\, a gift from his father\, well-known northern New Mexico singer song writer Rod Taylor. Today he continues to play for the public\, composing his own songs as well as offering the well-known songs of his generation. \n\n\n\nRy has also called Red River\, Angel Fire\, Santa Fe\, and now Taos N.M. his home in the past thirty years and he celebrates the local music scene. Ry’s genre has been best described as Acoustic Groove\, Americana\, Latin Jazz\, Alternative Rock\, and then some. \n\n\n\nhttps://www.rytaylormusic.net/ \nContent Credit: Angel Fire Resort
URL:https://angelfirechamber.org/event/live-music-elements-with-ry-taylor-2/
LOCATION:Elements at Angel Fire Resort Country Club\, Elements at Angel Fire Resort Country Club\, 100 Country Club Drive\, NM\, 87710\, United States
CATEGORIES:Live Music
ATTACH;FMTTYPE=image/webp:https://angelfirechamber.org/wp-content/uploads/2024/08/RYLME2024-1536x624-1.webp
END:VEVENT
BEGIN:VEVENT
DTSTART;TZID=America/Denver:20251016T060000
DTEND;TZID=America/Denver:20251016T200000
DTSTAMP:20260423T014358
CREATED:20251014T191222Z
LAST-MODIFIED:20251014T191222Z
UID:3754-1760594400-1760644800@angelfirechamber.org
SUMMARY:Homecoming Bonfire @ MVP
DESCRIPTION:
URL:https://angelfirechamber.org/event/homecoming-bonfire-mvp/
LOCATION:Moreno Valley Preparatory\, 56 Camino Grande\, Angel Fire\, NM\, 87710\, United States
CATEGORIES:Bonfire,Family Event
ATTACH;FMTTYPE=image/jpeg:https://angelfirechamber.org/wp-content/uploads/2025/10/Bonfire-MVP-2025.jpg
END:VEVENT
BEGIN:VEVENT
DTSTART;TZID=America/Denver:20251015T180000
DTEND;TZID=America/Denver:20251015T193000
DTSTAMP:20260423T014358
CREATED:20251006T190236Z
LAST-MODIFIED:20251006T190236Z
UID:3745-1760551200-1760556600@angelfirechamber.org
SUMMARY:Village Council Candidate Forum
DESCRIPTION:
URL:https://angelfirechamber.org/event/village-council-candidate-forum/
LOCATION:Angel Fire Community Center\, 15 CS Ranch Rd\, Angel Fire\, NM\, 87710\, United States
CATEGORIES:Chamber Member
ATTACH;FMTTYPE=image/jpeg:https://angelfirechamber.org/wp-content/uploads/2025/10/Candidate-Forum-2025-Flyer-scaled.jpg
END:VEVENT
BEGIN:VEVENT
DTSTART;TZID=America/Denver:20251015T170000
DTEND;TZID=America/Denver:20251015T190000
DTSTAMP:20260423T014358
CREATED:20250623T231816Z
LAST-MODIFIED:20250623T231816Z
UID:3508-1760547600-1760554800@angelfirechamber.org
SUMMARY:Live Music @ Elements with Jeremiah Glauser
DESCRIPTION:Enjoy food and drinks at Elements along with the sounds of live music from Jeremiah Glauser. \nJeremiah\, singer/guitarist\, is an Angel Fire favorite based in Taos\, NM. \nHe is a solo act with a touch of Americana and Country in his style. \nhttps://www.jeremiahglauser.com/
URL:https://angelfirechamber.org/event/live-music-elements-with-jeremiah-glauser-3/
LOCATION:Elements at Angel Fire Resort Country Club\, Elements at Angel Fire Resort Country Club\, 100 Country Club Drive\, NM\, 87710\, United States
CATEGORIES:Live Music
ATTACH;FMTTYPE=image/webp:https://angelfirechamber.org/wp-content/uploads/2024/07/Live-music-graphics-2.webp
END:VEVENT
BEGIN:VEVENT
DTSTART;TZID=America/Denver:20251011T150000
DTEND;TZID=America/Denver:20251011T170000
DTSTAMP:20260423T014358
CREATED:20251006T201009Z
LAST-MODIFIED:20251006T201009Z
UID:3750-1760194800-1760202000@angelfirechamber.org
SUMMARY:Porsche Club Car Show
DESCRIPTION:[vc_row][vc_column][vc_column_text css=””] \nSaturday\, October 11 \n3:00 PM–5:00 PM \n@ Mountain View Event Center \nJoin us for an afternoon of style\, sound\, and speed as the Porsche Club rolls into Angel Fire. \nView more than 40 stunning cars\, meet fellow enthusiasts\, and enjoy live music with the mountains as your backdrop. \nFree and open to the public—don’t miss this unique showcase of performance and design. \n\nPhoto & content courtesy of the Angel Fire Visitor Center\n[/vc_column_text][/vc_column][/vc_row]
URL:https://angelfirechamber.org/event/porsche-club-car-show/
LOCATION:Mountain View Event Center\, 380 Fuego St.\, Angel Fire\, NM\, 87710\, United States
CATEGORIES:Chamber Member,Family Event,Live Music,Outdoor Venue
ATTACH;FMTTYPE=image/jpeg:https://angelfirechamber.org/wp-content/uploads/2025/10/AFPorsche-3.jpg
END:VEVENT
BEGIN:VEVENT
DTSTART;TZID=America/Denver:20251011T110000
DTEND;TZID=America/Denver:20251011T170000
DTSTAMP:20260423T014358
CREATED:20250924T163345Z
LAST-MODIFIED:20250924T163345Z
UID:3714-1760180400-1760202000@angelfirechamber.org
SUMMARY:Pumpkin Patch
DESCRIPTION:
URL:https://angelfirechamber.org/event/pumpkin-patch/
LOCATION:Whatville\, 30 Trujillo Lane\, Angel Fire\, NM\, 87710\, United States
CATEGORIES:Family Event,Halloween,Outdoor Venue
ATTACH;FMTTYPE=image/jpeg:https://angelfirechamber.org/wp-content/uploads/2025/09/528037312_30377402355240690_3905738141444417726_n.jpg
END:VEVENT
BEGIN:VEVENT
DTSTART;TZID=America/Denver:20251009T170000
DTEND;TZID=America/Denver:20251009T190000
DTSTAMP:20260423T014358
CREATED:20250623T224456Z
LAST-MODIFIED:20250623T224456Z
UID:3486-1760029200-1760036400@angelfirechamber.org
SUMMARY:Live Music @ Elements with Ry Taylor
DESCRIPTION:Enjoy food and drinks with live music every Thursday throughout the summer from Ry Taylor! \nSinger\, songwriter Ry Taylor is a northern New Mexico local favorite! He was born and raised on Philmont boy scout ranch in Cimarron\, NM.  He has been playing music for family and friends since he was 10 years old\, a gift from his father\, well-known northern New Mexico singer song writer Rod Taylor. Today he continues to play for the public\, composing his own songs as well as offering the well-known songs of his generation. \n\n\n\nRy has also called Red River\, Angel Fire\, Santa Fe\, and now Taos N.M. his home in the past thirty years and he celebrates the local music scene. Ry’s genre has been best described as Acoustic Groove\, Americana\, Latin Jazz\, Alternative Rock\, and then some. \n\n\n\nhttps://www.rytaylormusic.net/ \nContent Credit: Angel Fire Resort
URL:https://angelfirechamber.org/event/live-music-elements-with-ry-taylor-18/
LOCATION:Elements at Angel Fire Resort Country Club\, Elements at Angel Fire Resort Country Club\, 100 Country Club Drive\, NM\, 87710\, United States
CATEGORIES:Live Music
ATTACH;FMTTYPE=image/webp:https://angelfirechamber.org/wp-content/uploads/2024/08/RYLME2024-1536x624-1.webp
END:VEVENT
BEGIN:VEVENT
DTSTART;TZID=America/Denver:20251008T170000
DTEND;TZID=America/Denver:20251008T190000
DTSTAMP:20260423T014358
CREATED:20250623T231738Z
LAST-MODIFIED:20250623T231738Z
UID:3507-1759942800-1759950000@angelfirechamber.org
SUMMARY:Live Music @ Elements with Jeremiah Glauser
DESCRIPTION:Enjoy food and drinks at Elements along with the sounds of live music from Jeremiah Glauser. \nJeremiah\, singer/guitarist\, is an Angel Fire favorite based in Taos\, NM. \nHe is a solo act with a touch of Americana and Country in his style. \nhttps://www.jeremiahglauser.com/
URL:https://angelfirechamber.org/event/live-music-elements-with-jeremiah-glauser-2/
LOCATION:Elements at Angel Fire Resort Country Club\, Elements at Angel Fire Resort Country Club\, 100 Country Club Drive\, NM\, 87710\, United States
CATEGORIES:Live Music
ATTACH;FMTTYPE=image/webp:https://angelfirechamber.org/wp-content/uploads/2024/07/Live-music-graphics-2.webp
END:VEVENT
BEGIN:VEVENT
DTSTART;TZID=America/Denver:20251002T170000
DTEND;TZID=America/Denver:20251002T190000
DTSTAMP:20260423T014358
CREATED:20250623T224343Z
LAST-MODIFIED:20250623T224343Z
UID:3485-1759424400-1759431600@angelfirechamber.org
SUMMARY:Live Music @ Elements with Ry Taylor
DESCRIPTION:Enjoy food and drinks with live music every Thursday throughout the summer from Ry Taylor! \nSinger\, songwriter Ry Taylor is a northern New Mexico local favorite! He was born and raised on Philmont boy scout ranch in Cimarron\, NM.  He has been playing music for family and friends since he was 10 years old\, a gift from his father\, well-known northern New Mexico singer song writer Rod Taylor. Today he continues to play for the public\, composing his own songs as well as offering the well-known songs of his generation. \n\n\n\nRy has also called Red River\, Angel Fire\, Santa Fe\, and now Taos N.M. his home in the past thirty years and he celebrates the local music scene. Ry’s genre has been best described as Acoustic Groove\, Americana\, Latin Jazz\, Alternative Rock\, and then some. \n\n\n\nhttps://www.rytaylormusic.net/ \nContent Credit: Angel Fire Resort
URL:https://angelfirechamber.org/event/live-music-elements-with-ry-taylor-17/
LOCATION:Elements at Angel Fire Resort Country Club\, Elements at Angel Fire Resort Country Club\, 100 Country Club Drive\, NM\, 87710\, United States
CATEGORIES:Live Music
ATTACH;FMTTYPE=image/webp:https://angelfirechamber.org/wp-content/uploads/2024/08/RYLME2024-1536x624-1.webp
END:VEVENT
BEGIN:VEVENT
DTSTART;TZID=America/Denver:20251001T170000
DTEND;TZID=America/Denver:20251001T190000
DTSTAMP:20260423T014358
CREATED:20250623T231356Z
LAST-MODIFIED:20250623T231356Z
UID:3506-1759338000-1759345200@angelfirechamber.org
SUMMARY:Live Music @ Elements with Jeremiah Glauser
DESCRIPTION:Enjoy food and drinks at Elements along with the sounds of live music from Jeremiah Glauser. \nJeremiah\, singer/guitarist\, is an Angel Fire favorite based in Taos\, NM. \nHe is a solo act with a touch of Americana and Country in his style. \nhttps://www.jeremiahglauser.com/
URL:https://angelfirechamber.org/event/live-music-elements-with-jeremiah-glauser-22/
LOCATION:Elements at Angel Fire Resort Country Club\, Elements at Angel Fire Resort Country Club\, 100 Country Club Drive\, NM\, 87710\, United States
CATEGORIES:Live Music
ATTACH;FMTTYPE=image/webp:https://angelfirechamber.org/wp-content/uploads/2024/07/Live-music-graphics-2.webp
END:VEVENT
BEGIN:VEVENT
DTSTART;TZID=America/Denver:20250928T110000
DTEND;TZID=America/Denver:20250928T160000
DTSTAMP:20260423T014358
CREATED:20250422T182312Z
LAST-MODIFIED:20250826T180148Z
UID:3260-1759057200-1759075200@angelfirechamber.org
SUMMARY:Angel Fire Studio Art Tour
DESCRIPTION:This two day  self guided Studio Art Tour includes artists location in Angel Fire\, Black Lake\, Taos Canyon\, and Valle Escandido. \nThere will be art for sale\, art workshops and music. \nExplore the art work of the many incredibly talented artists and artisans of northern New Mexico as they invite you into their studios. \nA map/brochure will be available in the foyer of the Angel Fire Chamber of Commerce\, located at 3407 Mountain View Blvd in Angel Fire\, \nthe Taos Visitor center\, the Santa Fe Visitor Center and at each of the artists locations and downloadable online. \nYou will want to make plans to stay the weekend in Angel Fire to complete the tour \nand enjoy the amazing majestic scenic beauty of the Moreno Valley during fall foliage! \nFor more information on the tour and the artists visit http://angelfirestudiotour.org/
URL:https://angelfirechamber.org/event/angel-fire-studio-art-tour-4/
LOCATION:NM
CATEGORIES:Arts
ATTACH;FMTTYPE=image/jpeg:https://angelfirechamber.org/wp-content/uploads/2025/04/Flyer-2025-828x1280-1.jpg
END:VEVENT
END:VCALENDAR