BEGIN:VCALENDAR
VERSION:2.0
PRODID:-//Angel Fire Chamber of Commerce - ECPv6.15.20//NONSGML v1.0//EN
CALSCALE:GREGORIAN
METHOD:PUBLISH
X-WR-CALNAME:Angel Fire Chamber of Commerce
X-ORIGINAL-URL:https://angelfirechamber.org
X-WR-CALDESC:Events for Angel Fire Chamber of Commerce
REFRESH-INTERVAL;VALUE=DURATION:PT1H
X-Robots-Tag:noindex
X-PUBLISHED-TTL:PT1H
BEGIN:VTIMEZONE
TZID:America/Denver
BEGIN:DAYLIGHT
TZOFFSETFROM:-0700
TZOFFSETTO:-0600
TZNAME:MDT
DTSTART:20230312T090000
END:DAYLIGHT
BEGIN:STANDARD
TZOFFSETFROM:-0600
TZOFFSETTO:-0700
TZNAME:MST
DTSTART:20231105T080000
END:STANDARD
BEGIN:DAYLIGHT
TZOFFSETFROM:-0700
TZOFFSETTO:-0600
TZNAME:MDT
DTSTART:20240310T090000
END:DAYLIGHT
BEGIN:STANDARD
TZOFFSETFROM:-0600
TZOFFSETTO:-0700
TZNAME:MST
DTSTART:20241103T080000
END:STANDARD
BEGIN:DAYLIGHT
TZOFFSETFROM:-0700
TZOFFSETTO:-0600
TZNAME:MDT
DTSTART:20250309T090000
END:DAYLIGHT
BEGIN:STANDARD
TZOFFSETFROM:-0600
TZOFFSETTO:-0700
TZNAME:MST
DTSTART:20251102T080000
END:STANDARD
END:VTIMEZONE
BEGIN:VEVENT
DTSTART;TZID=America/Denver:20240704T110000
DTEND;TZID=America/Denver:20240704T120000
DTSTAMP:20260423T172634
CREATED:20240516T193049Z
LAST-MODIFIED:20240625T165310Z
UID:2170-1720090800-1720094400@angelfirechamber.org
SUMMARY:Angel Fire 4th of July Parade
DESCRIPTION:Join us for our 3rd Annual 4th of July Parade. Bring your family and friends\, you lawn chairs and your cameras! \nThe Parade takes place on Bill Burgess Blvd a.k.a North Angel Fire Rd at 11:00am.\nRegister your floats and entries now at the Angel Fire Visitor Center\, 3407 Mountain View Blvd. in Centro Plaza or call 575-377-6555. \nLine up is at 10:00am on Mammoth Mountain Rd\, one block north of Bill Burgess Blvd. \n \,  \,
URL:https://angelfirechamber.org/event/angel-fire-4th-of-july-parade/
LOCATION:Bill Burgess Blvd/North Angel Fire Rd
CATEGORIES:4th of July
ATTACH;FMTTYPE=image/jpeg:https://angelfirechamber.org/wp-content/uploads/2024/05/Parade-Street-View-768x1024-1-rotated.jpg
END:VEVENT
BEGIN:VEVENT
DTSTART;TZID=America/Denver:20240627T090000
DTEND;TZID=America/Denver:20240627T160000
DTSTAMP:20260423T172634
CREATED:20240605T164405Z
LAST-MODIFIED:20240605T165104Z
UID:2228-1719478800-1719504000@angelfirechamber.org
SUMMARY:Big Mountain Endoro Series
DESCRIPTION:Round #4 of the 2024 Big Mountain Enduro Series is set to take place at the Angel Fire Bike Park in Angel Fire\, New Mexico.\nIt’s been a long time coming\, but we are excited to finally bring BME and Youth Enduro Series racing to Angel Fire Bike Park!  They have had one of the best parks in the United States for years and now we get to race it!  Angel Fire offers so much amazing riding that we are sure this will be a favorite among all who accept the challenge of a BME at Angel Fire.  You know we always pull out special stages for the events and this will be no exception!  \nFor more information and to register here: https://bigmountainenduro.com/roundfour
URL:https://angelfirechamber.org/event/big-mountain-endoro/
LOCATION:Angel Fire Resort Bike Park\, 10 Miller Lane\, An
CATEGORIES:Mountain Biking
ATTACH;FMTTYPE=image/webp:https://angelfirechamber.org/wp-content/uploads/2024/06/big-mountain-enduro.webp
END:VEVENT
BEGIN:VEVENT
DTSTART;TZID=America/Denver:20240518T083000
DTEND;TZID=America/Denver:20240518T120000
DTSTAMP:20260423T172634
CREATED:20240426T200759Z
LAST-MODIFIED:20240426T200759Z
UID:2091-1716021000-1716033600@angelfirechamber.org
SUMMARY:Community Spring Clean Up Day
DESCRIPTION:
URL:https://angelfirechamber.org/event/community-spring-clean-up-day/
LOCATION:Village of Angel Fire\, 3388 Mountain View Blvd.\, Angel Fire\, NM\, 87710\, United States
ATTACH;FMTTYPE=image/jpeg:https://angelfirechamber.org/wp-content/uploads/2024/04/Spring-Clean-Up.jpg
END:VEVENT
END:VCALENDAR